BEGIN:VCALENDAR
VERSION:2.0
PRODID:-//eventon.com NONSGML v1.0//EN
CALSCALE:GREGORIAN
METHOD:PUBLISH
BEGIN:VEVENT
UID:69ec2e03d70f5
DTSTAMP:20260425T025915Z
DTSTART:20260424T163000Z
DTEND:20260426T193000Z
LOCATION:Centre-ville Le Pradet Place Flamenq Le Pradet
SUMMARY:Ô Fêtes Pradétanes
DESCRIPTION:Ô Fêtes Pradétanes La Ville du Pradet vous donne rendez-vous
  les 24\,  25 et 26 avril 2026 pour « Ô Fêtes Pradétanes ». Un week-en
 d festif et coloré pour tous\,  avec des concerts en plein air\,  des dég
 ustations\,  des concours\,  des ateliers\,  des animations pour les enfant
 s\,  des foodtrucks et[..]\nhttps://tlninside.fr/events/o-fetes-pradetanes/
URL:https://tlninside.fr/events/o-fetes-pradetanes/
END:VEVENT
END:VCALENDAR