BEGIN:VCALENDAR
VERSION:2.0
PRODID:-//eventon.com NONSGML v1.0//EN
CALSCALE:GREGORIAN
METHOD:PUBLISH
BEGIN:VEVENT
UID:69ec2eb9f2196
DTSTAMP:20260425T030217Z
DTSTART:20260425T123000Z
DTEND:20260425T153000Z
LOCATION:Saint-Roch place Sadi Carnot 83200 Toulon
SUMMARY:Après-midi nature
DESCRIPTION:Après-midi nature Le CIL Saint-Roch organise un après-midi na
 ture le samedi 25 avril\,  de 14h30 à 17h30\,  sur la place Sadi Carnot. C
 et événement\,  ouvert à tous\,  propose un moment convivial autour de l
 a nature et du partage\,  avec de nombreuses activités gratuites portées 
 par le tissu associatif local. Au[..]\nhttps://tlninside.fr/events/apres-mi
 di-nature/
URL:https://tlninside.fr/events/apres-midi-nature/
END:VEVENT
END:VCALENDAR