BEGIN:VCALENDAR
VERSION:2.0
PRODID:-//eventon.com NONSGML v1.0//EN
CALSCALE:GREGORIAN
METHOD:PUBLISH
BEGIN:VEVENT
UID:69ec43d77abee
DTSTAMP:20260425T043223Z
DTSTART:20260425T143000Z
DTEND:20260425T215900Z
LOCATION:Stade Mayol Quai Lafontan\,  83000 Toulon
SUMMARY:Match Rugby RC Toulon vs Bayonne 2026
DESCRIPTION:Match Rugby RC Toulon vs Bayonne 2026 Rendez-vous ce samedi 25 
 avril à 16h30 au Stade Mayol à Toulon pour le match rugby RC Toulon vs Ba
 yonne. Viens encourager nos joueurs et vivre une ambiance de folie dans le 
 mythique Stade Mayol. Infos pratiques : Date : samedi 25 avril[..]\nhttps:/
 /tlninside.fr/events/match-rugby-rc-toulon-vs-bayonne-2026/
URL:https://tlninside.fr/events/match-rugby-rc-toulon-vs-bayonne-2026/
END:VEVENT
END:VCALENDAR