BEGIN:VCALENDAR
VERSION:2.0
PRODID:-//eventon.com NONSGML v1.0//EN
CALSCALE:GREGORIAN
METHOD:PUBLISH
BEGIN:VEVENT
UID:69ec2e517f54f
DTSTAMP:20260425T030033Z
DTSTART:20260718T183000Z
DTEND:20260718T215900Z
LOCATION:Zénith de Toulon 244 Bd Commandant Nicolas\,  83000 Toulon
SUMMARY:Bigflo & Oli + 1ère Partie Le Son By Toulon
DESCRIPTION:Bigflo &amp; Oli + 1ère Partie Le Son By Toulon Bigflo &amp; O
 li + 1ère Partie vous donnent rendez-vous le Samedi 18 Juillet 2026 au SON
  BY TOULON\,  pour un concert en plein air sur le parvis du Zénith de Toul
 on. Avec plus d’un milliard de vues sur YouTube\,  plus[..]\nhttps://tlni
 nside.fr/events/bigflo-oli-1ere-partie-le-son-by-toulon/
URL:https://tlninside.fr/events/bigflo-oli-1ere-partie-le-son-by-toulon/
END:VEVENT
END:VCALENDAR