BEGIN:VCALENDAR
VERSION:2.0
PRODID:-//eventon.com NONSGML v1.0//EN
CALSCALE:GREGORIAN
METHOD:PUBLISH
BEGIN:VEVENT
UID:69e737e87335b
DTSTAMP:20260421T084008Z
DTSTART:20251108T153000Z
DTEND:20251108T225900Z
LOCATION:Stade Mayol Quai Lafontan\,  83000 Toulon
SUMMARY:Match Rugby RC Toulon vs La Rochelle 2025
DESCRIPTION:Match Rugby RC Toulon vs La Rochelle Rendez-vous ce samedi 8 no
 vembre à 16h30 au Stade Mayol à Toulon pour le match rugby RC Toulon vs L
 a Rochelle. Viens encourager nos joueurs et vivre une ambiance de folie dan
 s le mythique Stade Mayol. Infos pratiques : Date : samedi 8[..]\nhttps://t
 lninside.fr/events/match-rugby-rc-toulon-vs-la-rochelle-2025/
URL:https://tlninside.fr/events/match-rugby-rc-toulon-vs-la-rochelle-2025/
END:VEVENT
END:VCALENDAR