BEGIN:VCALENDAR
VERSION:2.0
PRODID:-//eventon.com NONSGML v1.0//EN
CALSCALE:GREGORIAN
METHOD:PUBLISH
BEGIN:VEVENT
UID:69eceed0763d6
DTSTAMP:20260425T164152Z
DTSTART:20250511T070000Z
DTEND:20250511T160000Z
LOCATION:Esp. Henri BÅ“uf Les Sablettes\,  la Seyne-sur-mer
SUMMARY:Les Sablettes CrÃ©atifs mai 2025
DESCRIPTION:Les Sablettes CrÃ©atifs mai 2025 Les Sablettes CrÃ©atifs est un
  marchÃ© de crÃ©ateurs\,  artisans et producteurs. Rendez-vous le dimanche 
 11 mai 2025 pour dÃ©nicher des idÃ©es cadeaux uniques fait en Provence ! DÃ
 ©couvrez l&rsquo;espace d&rsquo;une journÃ©e\,  dans un cadre merveilleux\,
   face Ã  la mer\,  aux Sablettes\,  des crÃ©ateurs : Sacs\, [..]\nhttps://
 tlninside.fr/events/les-sablettes-creatifs-mai-2025/
URL:https://tlninside.fr/events/les-sablettes-creatifs-mai-2025/
END:VEVENT
END:VCALENDAR