BEGIN:VCALENDAR
VERSION:2.0
PRODID:-//eventon.com NONSGML v1.0//EN
CALSCALE:GREGORIAN
METHOD:PUBLISH
BEGIN:VEVENT
UID:69e34ab098889
DTSTAMP:20260418T091112Z
DTSTART:20250708T180000Z
DTEND:20250708T215900Z
LOCATION:Fort Saint-Louis 301 Littoral Frédéric Mistral\,  83000 Toulon
SUMMARY:Swing à 20 heures !
DESCRIPTION:Swing à 20 heures ! Le Festival de Musique de Toulon et sa ré
 gion vous invite à Swing à 20 heures au Fort Saint-Louis à Toulon ! FRAN
 CE DUCLAIROIR QUARTET : NINA GAT piano\,  MATTHEW BUMGARDNER trombone MAX B
 RIARD batterie FRANCE DUCLAIROIR contrebasse. Après un moment convivial au
  coucher du[..]\nhttps://tlninside.fr/events/swing-a-20-heures/
URL:https://tlninside.fr/events/swing-a-20-heures/
END:VEVENT
END:VCALENDAR