BEGIN:VCALENDAR
VERSION:2.0
PRODID:-//eventon.com NONSGML v1.0//EN
CALSCALE:GREGORIAN
METHOD:PUBLISH
BEGIN:VEVENT
UID:69e7a774516d9
DTSTAMP:20260421T163604Z
DTSTART:20250725T183000Z
DTEND:20250725T215900Z
LOCATION:Zénith de Toulon 244 Bd Commandant Nicolas\,  83000 Toulon
SUMMARY:SOFIANE PAMART & FERDI - SON BY TOULON
DESCRIPTION:SOFIANE PAMART &amp; FERDI &#8211; Zénith de Toulon SOFIANE PA
 MART &amp; FERDI vous donnent rendez-vous le Vendredi 25 Juillet 2025 au SO
 N BY TOULON\,  pour un concert en plein air sur le parvis du Zénith de Tou
 lon. Après avoir conquis les plus grandes scènes internationales\,  SOFIA
 NE PAMART revient en France[..]\nhttps://tlninside.fr/events/sofiane-pamart
 -ferdi-son-by-toulon/
URL:https://tlninside.fr/events/sofiane-pamart-ferdi-son-by-toulon/
END:VEVENT
END:VCALENDAR