BEGIN:VCALENDAR
VERSION:2.0
PRODID:-//eventon.com NONSGML v1.0//EN
CALSCALE:GREGORIAN
METHOD:PUBLISH
BEGIN:VEVENT
UID:69e8b1fba8a22
DTSTAMP:20260422T113315Z
DTSTART:20241222T083000Z
DTEND:20241222T225900Z
LOCATION:Centre-ville de La Crau Place Félix Reynaud\,  83260 La Crau
SUMMARY:Trail du Fenouillet
DESCRIPTION:Trail du Fenouillet Participez à la première édition du Trai
 l du Fenouillet organisée par L&rsquo;aCrau Trail et Ville de La Crau le 
 dimanche 22 décembre à 9h30 ! Envie de découvrir ou redécouvrir le Feno
 uillet ?Bloquez la date du 22 décembre et venez vous amuser avant les fêt
 es de Noël ![..]\nhttps://tlninside.fr/events/trail-du-fenouillet/
URL:https://tlninside.fr/events/trail-du-fenouillet/
END:VEVENT
END:VCALENDAR