BEGIN:VCALENDAR
VERSION:2.0
PRODID:-//eventon.com NONSGML v1.0//EN
CALSCALE:GREGORIAN
METHOD:PUBLISH
BEGIN:VEVENT
UID:69e6e5cdb103d
DTSTAMP:20260421T024949Z
DTSTART:20241129T100000Z
DTEND:20241202T180000Z
LOCATION:Villa Frouin 129 Chem. des Villas\,  83400 Hyères
SUMMARY:2ème salon du petit format de la Villa Frouin
DESCRIPTION:2ème salon du petit format de la Villa Frouin Acquis en 2021 p
 ar le couple d’artistes\,  Nadège et Étienne Frouin\,  ce cottage de st
 yle anglais « La Villa Frouin »\,  édifié par Elizabeth Douglas en 18
 84\,  est devenu un espace unique consacré à la création et aux expositi
 ons artistiques. Des œuvres variées[..]\nhttps://tlninside.fr/events/2eme
 -salon-du-petit-format-de-la-villa-frouin/
URL:https://tlninside.fr/events/2eme-salon-du-petit-format-de-la-villa-frouin/
END:VEVENT
END:VCALENDAR