BEGIN:VCALENDAR
VERSION:2.0
PRODID:-//eventon.com NONSGML v1.0//EN
CALSCALE:GREGORIAN
METHOD:PUBLISH
BEGIN:VEVENT
UID:69e657fee79e4
DTSTAMP:20260420T164446Z
DTSTART:20241012T183000Z
DTEND:20241012T200000Z
LOCATION:Théâtre Le Colbert 34 Rue Victor Clappier\,  83000 Toulon
SUMMARY:Matthieu Longatte dans Etat des gueux
DESCRIPTION:Matthieu Longatte dans Etat des gueux Rendez-vous au Théâtre 
 Le Colbert à Toulon pour le spectacle de Matthieu Longatte dans Etat des 
 gueux\,  le samedi 12 octobre 2024 à 20h30. Après quatre ans à tirer su
 r tout ce qui bouge de travers dans l&rsquo;actualité française\,  Matthi
 eu Longatte débarque sur scène. Matthieu Longatte[..]\nhttps://tlninside.
 fr/events/matthieu-longatte-dans-etat-des-gueux/
URL:https://tlninside.fr/events/matthieu-longatte-dans-etat-des-gueux/
END:VEVENT
END:VCALENDAR