BEGIN:VCALENDAR
VERSION:2.0
PRODID:-//eventon.com NONSGML v1.0//EN
CALSCALE:GREGORIAN
METHOD:PUBLISH
BEGIN:VEVENT
UID:69e8fbf0a74db
DTSTAMP:20260422T164848Z
DTSTART:20240929T130000Z
DTEND:20240929T215900Z
LOCATION:Parc Cravéro Le Pradet 42 Av. de la Première Dfl\,  83220 Le Pradet
SUMMARY:Color Run 2024
DESCRIPTION:Color Run 2024 Pour la 26ème édition des VIRADES DE L&rsquo;E
 SPOIR\,  l&rsquo;association Vaincre la Mucoviscidose au Pradet vous prése
 nte sa 5ème Color Run le dimanche 29 septembre 2024 à 15H ! Une course no
 n chronométrée et accessible à tous (à partir de 6 ans).Vous pouvez la 
 faire en COURANT\,  en[..]\nhttps://tlninside.fr/events/color-run-2024/
URL:https://tlninside.fr/events/color-run-2024/
END:VEVENT
END:VCALENDAR