BEGIN:VCALENDAR
VERSION:2.0
PRODID:-//eventon.com NONSGML v1.0//EN
CALSCALE:GREGORIAN
METHOD:PUBLISH
BEGIN:VEVENT
UID:69e8ff01d1609
DTSTAMP:20260422T170153Z
DTSTART:20240713T190000Z
DTEND:20240713T215900Z
LOCATION:Port des Salettes Carqueiranne Port des\,  Imp. FrÃ©dÃ©ric Chopin\,  83320 Carqueiranne
SUMMARY:Feu d'artifice Carqueiranne
DESCRIPTION:Feu d&rsquo;artifice Carqueiranne Rendez-vous le samedi 13 juil
 let sur le port des Salettes pour assister aux festivitÃ©s proposÃ©es par l
 a Ville de Carqueiranne\,  le ComitÃ© Officiel des FÃªtes et lâ€™ADICAC. DÃ
 ©roulement de la soirÃ©e : 21h : concert sur le port 22h30 : feu dâ€™artifi
 ce concert GRATUIT Infos &#8211; Service[..]\nhttps://tlninside.fr/events/f
 eu-dartifice-carqueiranne/
URL:https://tlninside.fr/events/feu-dartifice-carqueiranne/
END:VEVENT
END:VCALENDAR