BEGIN:VCALENDAR
VERSION:2.0
PRODID:-//eventon.com NONSGML v1.0//EN
CALSCALE:GREGORIAN
METHOD:PUBLISH
BEGIN:VEVENT
UID:69e4d0a4be90f
DTSTAMP:20260419T125500Z
DTSTART:20240728T100000Z
DTEND:20240728T120000Z
LOCATION:Bar-Restaurant L&#039;Équerre 15 rue Victor Micholet 83000 Toulon
SUMMARY:LE BARBECUE DE L’ÉQUERRE
DESCRIPTION:LE BARBECUE DE L’ÉQUERRE Vous la sentez cette douce odeur de
  grillade… ? C&rsquo;est le rendez-vous du dimanche Le Barbecue de l&rsqu
 o;Équerre à Toulon ! Venez profiter de notre formule du dimanche midi\,  
 autour d’entrées\,  de grillades préparées sous vos yeux\,  d’accomp
 agnements et desserts frais ! . Formule unique\,  à volonté\, [..]\nhttp
 s://tlninside.fr/events/le-barbecue-de-lequerre/var/ri-1.l-L1
URL:https://tlninside.fr/events/le-barbecue-de-lequerre/var/ri-1.l-L1
END:VEVENT
END:VCALENDAR