BEGIN:VCALENDAR
VERSION:2.0
PRODID:-//eventon.com NONSGML v1.0//EN
CALSCALE:GREGORIAN
METHOD:PUBLISH
BEGIN:VEVENT
UID:69e630d0b27dd
DTSTAMP:20260420T135736Z
DTSTART:20240705T163000Z
DTEND:20240707T214500Z
LOCATION:Site archéologique d&#039;Olbia Rte de l'Almanarre\,  83400 Hyères
SUMMARY:MIDI Festival 2024
DESCRIPTION:MIDI Festival 2024 Rejoignez-nous pour la 19ème édition du MI
 DI Festival du 5 au 7 juillet 2023 à Hyères\,  French Riviera&#8230; Prof
 itez de trois jours de musique et de moments inoubliables avec des concerts
  en plein air à Olbia\,  face aux paradisiaques plages de l&rsquo;Almanarr
 e.Vous avez aussi la possibilité de[..]\nhttps://tlninside.fr/events/midi-
 festival-2024/
URL:https://tlninside.fr/events/midi-festival-2024/
END:VEVENT
END:VCALENDAR