BEGIN:VCALENDAR
VERSION:2.0
PRODID:-//eventon.com NONSGML v1.0//EN
CALSCALE:GREGORIAN
METHOD:PUBLISH
BEGIN:VEVENT
UID:69e7b6a68bc6d
DTSTAMP:20260421T174054Z
DTSTART:20240525T080000Z
DTEND:20240525T180000Z
LOCATION:Place du Globe 28 rue Nicolas Laugier\,  83000 Toulon
SUMMARY:Fête de l'Estampe à Toulon
DESCRIPTION:Fête de l&rsquo;Estampe à Toulon Samedi 25 mai est organisée
  la Fête de l&rsquo;Estampe à Toulon. Propositions des ateliers autour de
  l’estampe en partenariat avec Metaxu : de 10h à 12h et de 15h à 17h at
 elier tetrapack de 14h à 15h30 et de 17h à 18h30 impression textile de[..
 ]\nhttps://tlninside.fr/events/fete-de-lestampe-a-toulon/
URL:https://tlninside.fr/events/fete-de-lestampe-a-toulon/
END:VEVENT
END:VCALENDAR