BEGIN:VCALENDAR
VERSION:2.0
PRODID:-//eventon.com NONSGML v1.0//EN
CALSCALE:GREGORIAN
METHOD:PUBLISH
BEGIN:VEVENT
UID:69e7ba9d9600b
DTSTAMP:20260421T175749Z
DTSTART:20250402T180000Z
DTEND:20250406T201500Z
LOCATION:Zénith de Toulon 244 Bd Commandant Nicolas\,  83000 Toulon
SUMMARY:Shen Yun 2025
DESCRIPTION:Shen Yun 2025 : La Chine avant le communisme Laissez-vous éblo
 uir par Shen Yun 2025\,  spectacle féerique et découvrez la Chine avant l
 e communisme. Choisissez l&rsquo;une des représentations du 2 au 6 avril 2
 025 au Zénith de Toulon. Shen Yun vous fait redécouvrir la culture tradit
 ionnelle chinoise telle que vous[..]\nhttps://tlninside.fr/events/shen-yun-
 2025-toulon/
URL:https://tlninside.fr/events/shen-yun-2025-toulon/
END:VEVENT
END:VCALENDAR